BEGIN:VCALENDAR
VERSION:2.0
PRODID:-//Schnebly Winery Bookings - ECPv6.15.18//NONSGML v1.0//EN
CALSCALE:GREGORIAN
METHOD:PUBLISH
X-ORIGINAL-URL:https://schneblywinery.com/bookings
X-WR-CALDESC:Events for Schnebly Winery Bookings
REFRESH-INTERVAL;VALUE=DURATION:PT1H
X-Robots-Tag:noindex
X-PUBLISHED-TTL:PT1H
BEGIN:VTIMEZONE
TZID:America/Chicago
BEGIN:DAYLIGHT
TZOFFSETFROM:-0600
TZOFFSETTO:-0500
TZNAME:CDT
DTSTART:20260308T080000
END:DAYLIGHT
BEGIN:STANDARD
TZOFFSETFROM:-0500
TZOFFSETTO:-0600
TZNAME:CST
DTSTART:20261101T070000
END:STANDARD
BEGIN:DAYLIGHT
TZOFFSETFROM:-0600
TZOFFSETTO:-0500
TZNAME:CDT
DTSTART:20270314T080000
END:DAYLIGHT
BEGIN:STANDARD
TZOFFSETFROM:-0500
TZOFFSETTO:-0600
TZNAME:CST
DTSTART:20271107T070000
END:STANDARD
BEGIN:DAYLIGHT
TZOFFSETFROM:-0600
TZOFFSETTO:-0500
TZNAME:CDT
DTSTART:20280312T080000
END:DAYLIGHT
BEGIN:STANDARD
TZOFFSETFROM:-0500
TZOFFSETTO:-0600
TZNAME:CST
DTSTART:20281105T070000
END:STANDARD
END:VTIMEZONE
BEGIN:VEVENT
DTSTART;TZID=America/Chicago:20270403T110000
DTEND;TZID=America/Chicago:20270403T150000
DTSTAMP:20260423T054456
CREATED:20230710T185653Z
LAST-MODIFIED:20251125T150253Z
UID:838655-1806750000-1806764400@schneblywinery.com
SUMMARY:Brunch Time at Schnebly Winery!
DESCRIPTION:Join us on weekends for our special BRUNCH outside! \nEnjoy delicious farm-to-table food next to our waterfalls! Add $25 during table service for UNLIMITED MIMOSAS! \nRESTAURANT RESERVATIONS\n\n\n\n  \n 
URL:https://schneblywinery.com/bookings/event/saturday-brunch-at-schnebly-winery-2025-07-19-2027-04-03/
CATEGORIES:Events
ATTACH;FMTTYPE=image/jpeg:https://schneblywinery.com/bookings/wp-content/uploads/2023/07/restaurant_gral-2.jpg
END:VEVENT
BEGIN:VEVENT
DTSTART;TZID=America/Chicago:20270403T130000
DTEND;TZID=America/Chicago:20270403T180000
DTSTAMP:20260423T054456
CREATED:20230710T151831Z
LAST-MODIFIED:20251125T160223Z
UID:838656-1806757200-1806775200@schneblywinery.com
SUMMARY:Live Music at Schnebly Winery
DESCRIPTION:Enjoy live music \nSaturdays from 1pm  to 6 pm \nSundays from 1pm  to 6 pm \nRESTAURANT RESERVATIONS\n\n\n  \n\n\n\n  \n 
URL:https://schneblywinery.com/bookings/event/live-music-saturday-2025-07-13-2027-04-03/
ATTACH;FMTTYPE=image/jpeg:https://schneblywinery.com/bookings/wp-content/uploads/2023/07/livemusic_gral.jpg
END:VEVENT
BEGIN:VEVENT
DTSTART;TZID=America/Chicago:20270404T110000
DTEND;TZID=America/Chicago:20270404T150000
DTSTAMP:20260423T054456
CREATED:20230710T185653Z
LAST-MODIFIED:20251125T150254Z
UID:838728-1806836400-1806850800@schneblywinery.com
SUMMARY:Brunch Time at Schnebly Winery!
DESCRIPTION:Join us on weekends for our special BRUNCH outside! \nEnjoy delicious farm-to-table food next to our waterfalls! Add $25 during table service for UNLIMITED MIMOSAS! \nRESTAURANT RESERVATIONS\n\n\n\n  \n 
URL:https://schneblywinery.com/bookings/event/saturday-brunch-at-schnebly-winery-2025-07-19-2027-04-04/
CATEGORIES:Events
ATTACH;FMTTYPE=image/jpeg:https://schneblywinery.com/bookings/wp-content/uploads/2023/07/restaurant_gral-2.jpg
END:VEVENT
BEGIN:VEVENT
DTSTART;TZID=America/Chicago:20270404T130000
DTEND;TZID=America/Chicago:20270404T180000
DTSTAMP:20260423T054456
CREATED:20230710T151831Z
LAST-MODIFIED:20251125T160223Z
UID:838729-1806843600-1806861600@schneblywinery.com
SUMMARY:Live Music at Schnebly Winery
DESCRIPTION:Enjoy live music \nSaturdays from 1pm  to 6 pm \nSundays from 1pm  to 6 pm \nRESTAURANT RESERVATIONS\n\n\n  \n\n\n\n  \n 
URL:https://schneblywinery.com/bookings/event/live-music-saturday-2025-07-13-2027-04-04/
ATTACH;FMTTYPE=image/jpeg:https://schneblywinery.com/bookings/wp-content/uploads/2023/07/livemusic_gral.jpg
END:VEVENT
BEGIN:VEVENT
DTSTART;TZID=America/Chicago:20270409T170000
DTEND;TZID=America/Chicago:20270409T190000
DTSTAMP:20260423T054456
CREATED:20230710T215812Z
LAST-MODIFIED:20230710T215812Z
UID:838812-1807290000-1807297200@schneblywinery.com
SUMMARY:GOLDEN HOUR FRIDAYS at Schnebly Redland’s Winery!
DESCRIPTION:Schnebly Winery and Miami Brewing Company Present…GOLDEN HOUR – Happy Hour! \nTaste the Sunset in Miami’s Countryside at Schnebly Redland’s Winery and Miami Brewing Company as we present Golden Hour ✨ a new version of Happy Hour! Enjoy 1/2 OFF \n\nSelect Appetizers\nMixed drinks\nSelect Wine by the glass\nSelect Beer by the pint\n\nEvery Friday from 5 pm – 7 pm!\n  \n\n  \n 
URL:https://schneblywinery.com/bookings/event/golden-hour-fridays-at-schnebly-redlands-winery-2-2024-08-16-2027-04-09/
CATEGORIES:Events
ATTACH;FMTTYPE=image/jpeg:https://schneblywinery.com/bookings/wp-content/uploads/2023/07/golden-hour-banner-sin-boton.jpg
END:VEVENT
BEGIN:VEVENT
DTSTART;TZID=America/Chicago:20270410T110000
DTEND;TZID=America/Chicago:20270410T150000
DTSTAMP:20260423T054456
CREATED:20230710T185653Z
LAST-MODIFIED:20251125T150255Z
UID:838858-1807354800-1807369200@schneblywinery.com
SUMMARY:Brunch Time at Schnebly Winery!
DESCRIPTION:Join us on weekends for our special BRUNCH outside! \nEnjoy delicious farm-to-table food next to our waterfalls! Add $25 during table service for UNLIMITED MIMOSAS! \nRESTAURANT RESERVATIONS\n\n\n\n  \n 
URL:https://schneblywinery.com/bookings/event/saturday-brunch-at-schnebly-winery-2025-07-19-2027-04-10/
CATEGORIES:Events
ATTACH;FMTTYPE=image/jpeg:https://schneblywinery.com/bookings/wp-content/uploads/2023/07/restaurant_gral-2.jpg
END:VEVENT
BEGIN:VEVENT
DTSTART;TZID=America/Chicago:20270410T130000
DTEND;TZID=America/Chicago:20270410T180000
DTSTAMP:20260423T054456
CREATED:20230710T151831Z
LAST-MODIFIED:20251125T160224Z
UID:838859-1807362000-1807380000@schneblywinery.com
SUMMARY:Live Music at Schnebly Winery
DESCRIPTION:Enjoy live music \nSaturdays from 1pm  to 6 pm \nSundays from 1pm  to 6 pm \nRESTAURANT RESERVATIONS\n\n\n  \n\n\n\n  \n 
URL:https://schneblywinery.com/bookings/event/live-music-saturday-2025-07-13-2027-04-10/
ATTACH;FMTTYPE=image/jpeg:https://schneblywinery.com/bookings/wp-content/uploads/2023/07/livemusic_gral.jpg
END:VEVENT
BEGIN:VEVENT
DTSTART;TZID=America/Chicago:20270411T110000
DTEND;TZID=America/Chicago:20270411T150000
DTSTAMP:20260423T054456
CREATED:20230710T185653Z
LAST-MODIFIED:20251125T150255Z
UID:838957-1807441200-1807455600@schneblywinery.com
SUMMARY:Brunch Time at Schnebly Winery!
DESCRIPTION:Join us on weekends for our special BRUNCH outside! \nEnjoy delicious farm-to-table food next to our waterfalls! Add $25 during table service for UNLIMITED MIMOSAS! \nRESTAURANT RESERVATIONS\n\n\n\n  \n 
URL:https://schneblywinery.com/bookings/event/saturday-brunch-at-schnebly-winery-2025-07-19-2027-04-11/
CATEGORIES:Events
ATTACH;FMTTYPE=image/jpeg:https://schneblywinery.com/bookings/wp-content/uploads/2023/07/restaurant_gral-2.jpg
END:VEVENT
BEGIN:VEVENT
DTSTART;TZID=America/Chicago:20270411T130000
DTEND;TZID=America/Chicago:20270411T180000
DTSTAMP:20260423T054456
CREATED:20230710T151831Z
LAST-MODIFIED:20251125T160225Z
UID:838952-1807448400-1807466400@schneblywinery.com
SUMMARY:Live Music at Schnebly Winery
DESCRIPTION:Enjoy live music \nSaturdays from 1pm  to 6 pm \nSundays from 1pm  to 6 pm \nRESTAURANT RESERVATIONS\n\n\n  \n\n\n\n  \n 
URL:https://schneblywinery.com/bookings/event/live-music-saturday-2025-07-13-2027-04-11/
ATTACH;FMTTYPE=image/jpeg:https://schneblywinery.com/bookings/wp-content/uploads/2023/07/livemusic_gral.jpg
END:VEVENT
BEGIN:VEVENT
DTSTART;TZID=America/Chicago:20270417T110000
DTEND;TZID=America/Chicago:20270417T150000
DTSTAMP:20260423T054456
CREATED:20230710T185653Z
LAST-MODIFIED:20251125T150256Z
UID:839109-1807959600-1807974000@schneblywinery.com
SUMMARY:Brunch Time at Schnebly Winery!
DESCRIPTION:Join us on weekends for our special BRUNCH outside! \nEnjoy delicious farm-to-table food next to our waterfalls! Add $25 during table service for UNLIMITED MIMOSAS! \nRESTAURANT RESERVATIONS\n\n\n\n  \n 
URL:https://schneblywinery.com/bookings/event/saturday-brunch-at-schnebly-winery-2025-07-19-2027-04-17/
CATEGORIES:Events
ATTACH;FMTTYPE=image/jpeg:https://schneblywinery.com/bookings/wp-content/uploads/2023/07/restaurant_gral-2.jpg
END:VEVENT
BEGIN:VEVENT
DTSTART;TZID=America/Chicago:20270417T130000
DTEND;TZID=America/Chicago:20270417T180000
DTSTAMP:20260423T054456
CREATED:20230710T151831Z
LAST-MODIFIED:20251125T160225Z
UID:839110-1807966800-1807984800@schneblywinery.com
SUMMARY:Live Music at Schnebly Winery
DESCRIPTION:Enjoy live music \nSaturdays from 1pm  to 6 pm \nSundays from 1pm  to 6 pm \nRESTAURANT RESERVATIONS\n\n\n  \n\n\n\n  \n 
URL:https://schneblywinery.com/bookings/event/live-music-saturday-2025-07-13-2027-04-17/
ATTACH;FMTTYPE=image/jpeg:https://schneblywinery.com/bookings/wp-content/uploads/2023/07/livemusic_gral.jpg
END:VEVENT
BEGIN:VEVENT
DTSTART;TZID=America/Chicago:20270418T110000
DTEND;TZID=America/Chicago:20270418T150000
DTSTAMP:20260423T054456
CREATED:20230710T185653Z
LAST-MODIFIED:20251125T150256Z
UID:839176-1808046000-1808060400@schneblywinery.com
SUMMARY:Brunch Time at Schnebly Winery!
DESCRIPTION:Join us on weekends for our special BRUNCH outside! \nEnjoy delicious farm-to-table food next to our waterfalls! Add $25 during table service for UNLIMITED MIMOSAS! \nRESTAURANT RESERVATIONS\n\n\n\n  \n 
URL:https://schneblywinery.com/bookings/event/saturday-brunch-at-schnebly-winery-2025-07-19-2027-04-18/
CATEGORIES:Events
ATTACH;FMTTYPE=image/jpeg:https://schneblywinery.com/bookings/wp-content/uploads/2023/07/restaurant_gral-2.jpg
END:VEVENT
BEGIN:VEVENT
DTSTART;TZID=America/Chicago:20270418T130000
DTEND;TZID=America/Chicago:20270418T180000
DTSTAMP:20260423T054456
CREATED:20230710T151831Z
LAST-MODIFIED:20251125T160226Z
UID:839177-1808053200-1808071200@schneblywinery.com
SUMMARY:Live Music at Schnebly Winery
DESCRIPTION:Enjoy live music \nSaturdays from 1pm  to 6 pm \nSundays from 1pm  to 6 pm \nRESTAURANT RESERVATIONS\n\n\n  \n\n\n\n  \n 
URL:https://schneblywinery.com/bookings/event/live-music-saturday-2025-07-13-2027-04-18/
ATTACH;FMTTYPE=image/jpeg:https://schneblywinery.com/bookings/wp-content/uploads/2023/07/livemusic_gral.jpg
END:VEVENT
BEGIN:VEVENT
DTSTART;TZID=America/Chicago:20270424T110000
DTEND;TZID=America/Chicago:20270424T150000
DTSTAMP:20260423T054456
CREATED:20230710T185653Z
LAST-MODIFIED:20251125T150257Z
UID:839289-1808564400-1808578800@schneblywinery.com
SUMMARY:Brunch Time at Schnebly Winery!
DESCRIPTION:Join us on weekends for our special BRUNCH outside! \nEnjoy delicious farm-to-table food next to our waterfalls! Add $25 during table service for UNLIMITED MIMOSAS! \nRESTAURANT RESERVATIONS\n\n\n\n  \n 
URL:https://schneblywinery.com/bookings/event/saturday-brunch-at-schnebly-winery-2025-07-19-2027-04-24/
CATEGORIES:Events
ATTACH;FMTTYPE=image/jpeg:https://schneblywinery.com/bookings/wp-content/uploads/2023/07/restaurant_gral-2.jpg
END:VEVENT
BEGIN:VEVENT
DTSTART;TZID=America/Chicago:20270424T130000
DTEND;TZID=America/Chicago:20270424T180000
DTSTAMP:20260423T054456
CREATED:20230710T151831Z
LAST-MODIFIED:20251125T160226Z
UID:839290-1808571600-1808589600@schneblywinery.com
SUMMARY:Live Music at Schnebly Winery
DESCRIPTION:Enjoy live music \nSaturdays from 1pm  to 6 pm \nSundays from 1pm  to 6 pm \nRESTAURANT RESERVATIONS\n\n\n  \n\n\n\n  \n 
URL:https://schneblywinery.com/bookings/event/live-music-saturday-2025-07-13-2027-04-24/
ATTACH;FMTTYPE=image/jpeg:https://schneblywinery.com/bookings/wp-content/uploads/2023/07/livemusic_gral.jpg
END:VEVENT
BEGIN:VEVENT
DTSTART;TZID=America/Chicago:20270425T110000
DTEND;TZID=America/Chicago:20270425T150000
DTSTAMP:20260423T054456
CREATED:20230710T185653Z
LAST-MODIFIED:20251125T150258Z
UID:839363-1808650800-1808665200@schneblywinery.com
SUMMARY:Brunch Time at Schnebly Winery!
DESCRIPTION:Join us on weekends for our special BRUNCH outside! \nEnjoy delicious farm-to-table food next to our waterfalls! Add $25 during table service for UNLIMITED MIMOSAS! \nRESTAURANT RESERVATIONS\n\n\n\n  \n 
URL:https://schneblywinery.com/bookings/event/saturday-brunch-at-schnebly-winery-2025-07-19-2027-04-25/
CATEGORIES:Events
ATTACH;FMTTYPE=image/jpeg:https://schneblywinery.com/bookings/wp-content/uploads/2023/07/restaurant_gral-2.jpg
END:VEVENT
BEGIN:VEVENT
DTSTART;TZID=America/Chicago:20270425T130000
DTEND;TZID=America/Chicago:20270425T180000
DTSTAMP:20260423T054456
CREATED:20230710T151831Z
LAST-MODIFIED:20251125T160227Z
UID:839364-1808658000-1808676000@schneblywinery.com
SUMMARY:Live Music at Schnebly Winery
DESCRIPTION:Enjoy live music \nSaturdays from 1pm  to 6 pm \nSundays from 1pm  to 6 pm \nRESTAURANT RESERVATIONS\n\n\n  \n\n\n\n  \n 
URL:https://schneblywinery.com/bookings/event/live-music-saturday-2025-07-13-2027-04-25/
ATTACH;FMTTYPE=image/jpeg:https://schneblywinery.com/bookings/wp-content/uploads/2023/07/livemusic_gral.jpg
END:VEVENT
END:VCALENDAR