BEGIN:VCALENDAR
VERSION:2.0
PRODID:-//Schnebly Winery Bookings - ECPv6.15.18//NONSGML v1.0//EN
CALSCALE:GREGORIAN
METHOD:PUBLISH
X-WR-CALNAME:Schnebly Winery Bookings
X-ORIGINAL-URL:https://schneblywinery.com/bookings
X-WR-CALDESC:Events for Schnebly Winery Bookings
REFRESH-INTERVAL;VALUE=DURATION:PT1H
X-Robots-Tag:noindex
X-PUBLISHED-TTL:PT1H
BEGIN:VTIMEZONE
TZID:America/Chicago
BEGIN:DAYLIGHT
TZOFFSETFROM:-0600
TZOFFSETTO:-0500
TZNAME:CDT
DTSTART:20260308T080000
END:DAYLIGHT
BEGIN:STANDARD
TZOFFSETFROM:-0500
TZOFFSETTO:-0600
TZNAME:CST
DTSTART:20261101T070000
END:STANDARD
BEGIN:DAYLIGHT
TZOFFSETFROM:-0600
TZOFFSETTO:-0500
TZNAME:CDT
DTSTART:20270314T080000
END:DAYLIGHT
BEGIN:STANDARD
TZOFFSETFROM:-0500
TZOFFSETTO:-0600
TZNAME:CST
DTSTART:20271107T070000
END:STANDARD
BEGIN:DAYLIGHT
TZOFFSETFROM:-0600
TZOFFSETTO:-0500
TZNAME:CDT
DTSTART:20280312T080000
END:DAYLIGHT
BEGIN:STANDARD
TZOFFSETFROM:-0500
TZOFFSETTO:-0600
TZNAME:CST
DTSTART:20281105T070000
END:STANDARD
END:VTIMEZONE
BEGIN:VEVENT
DTSTART;TZID=America/Chicago:20270703T110000
DTEND;TZID=America/Chicago:20270703T150000
DTSTAMP:20260423T102840
CREATED:20230710T185653Z
LAST-MODIFIED:20251125T153128Z
UID:842724-1814612400-1814626800@schneblywinery.com
SUMMARY:Brunch Time at Schnebly Winery!
DESCRIPTION:Join us on weekends for our special BRUNCH outside! \nEnjoy delicious farm-to-table food next to our waterfalls! Add $25 during table service for UNLIMITED MIMOSAS! \nRESTAURANT RESERVATIONS\n\n\n\n  \n 
URL:https://schneblywinery.com/bookings/event/saturday-brunch-at-schnebly-winery-2025-07-19-2027-07-03/
CATEGORIES:Events
ATTACH;FMTTYPE=image/jpeg:https://schneblywinery.com/bookings/wp-content/uploads/2023/07/restaurant_gral-2.jpg
END:VEVENT
BEGIN:VEVENT
DTSTART;TZID=America/Chicago:20270703T130000
DTEND;TZID=America/Chicago:20270703T180000
DTSTAMP:20260423T102840
CREATED:20230710T151831Z
LAST-MODIFIED:20251125T160238Z
UID:842725-1814619600-1814637600@schneblywinery.com
SUMMARY:Live Music at Schnebly Winery
DESCRIPTION:Enjoy live music \nSaturdays from 1pm  to 6 pm \nSundays from 1pm  to 6 pm \nRESTAURANT RESERVATIONS\n\n\n  \n\n\n\n  \n 
URL:https://schneblywinery.com/bookings/event/live-music-saturday-2025-07-13-2027-07-03/
ATTACH;FMTTYPE=image/jpeg:https://schneblywinery.com/bookings/wp-content/uploads/2023/07/livemusic_gral.jpg
END:VEVENT
BEGIN:VEVENT
DTSTART;TZID=America/Chicago:20270704T110000
DTEND;TZID=America/Chicago:20270704T150000
DTSTAMP:20260423T102840
CREATED:20230710T185653Z
LAST-MODIFIED:20251125T153128Z
UID:842779-1814698800-1814713200@schneblywinery.com
SUMMARY:Brunch Time at Schnebly Winery!
DESCRIPTION:Join us on weekends for our special BRUNCH outside! \nEnjoy delicious farm-to-table food next to our waterfalls! Add $25 during table service for UNLIMITED MIMOSAS! \nRESTAURANT RESERVATIONS\n\n\n\n  \n 
URL:https://schneblywinery.com/bookings/event/saturday-brunch-at-schnebly-winery-2025-07-19-2027-07-04/
CATEGORIES:Events
ATTACH;FMTTYPE=image/jpeg:https://schneblywinery.com/bookings/wp-content/uploads/2023/07/restaurant_gral-2.jpg
END:VEVENT
BEGIN:VEVENT
DTSTART;TZID=America/Chicago:20270704T130000
DTEND;TZID=America/Chicago:20270704T180000
DTSTAMP:20260423T102840
CREATED:20230710T151831Z
LAST-MODIFIED:20251125T160238Z
UID:842780-1814706000-1814724000@schneblywinery.com
SUMMARY:Live Music at Schnebly Winery
DESCRIPTION:Enjoy live music \nSaturdays from 1pm  to 6 pm \nSundays from 1pm  to 6 pm \nRESTAURANT RESERVATIONS\n\n\n  \n\n\n\n  \n 
URL:https://schneblywinery.com/bookings/event/live-music-saturday-2025-07-13-2027-07-04/
ATTACH;FMTTYPE=image/jpeg:https://schneblywinery.com/bookings/wp-content/uploads/2023/07/livemusic_gral.jpg
END:VEVENT
BEGIN:VEVENT
DTSTART;TZID=America/Chicago:20270710T110000
DTEND;TZID=America/Chicago:20270710T150000
DTSTAMP:20260423T102840
CREATED:20230710T185653Z
LAST-MODIFIED:20251125T153129Z
UID:843437-1815217200-1815231600@schneblywinery.com
SUMMARY:Brunch Time at Schnebly Winery!
DESCRIPTION:Join us on weekends for our special BRUNCH outside! \nEnjoy delicious farm-to-table food next to our waterfalls! Add $25 during table service for UNLIMITED MIMOSAS! \nRESTAURANT RESERVATIONS\n\n\n\n  \n 
URL:https://schneblywinery.com/bookings/event/saturday-brunch-at-schnebly-winery-2025-07-19-2027-07-10/
CATEGORIES:Events
ATTACH;FMTTYPE=image/jpeg:https://schneblywinery.com/bookings/wp-content/uploads/2023/07/restaurant_gral-2.jpg
END:VEVENT
BEGIN:VEVENT
DTSTART;TZID=America/Chicago:20270710T130000
DTEND;TZID=America/Chicago:20270710T180000
DTSTAMP:20260423T102840
CREATED:20230710T151831Z
LAST-MODIFIED:20251125T160239Z
UID:843438-1815224400-1815242400@schneblywinery.com
SUMMARY:Live Music at Schnebly Winery
DESCRIPTION:Enjoy live music \nSaturdays from 1pm  to 6 pm \nSundays from 1pm  to 6 pm \nRESTAURANT RESERVATIONS\n\n\n  \n\n\n\n  \n 
URL:https://schneblywinery.com/bookings/event/live-music-saturday-2025-07-13-2027-07-10/
ATTACH;FMTTYPE=image/jpeg:https://schneblywinery.com/bookings/wp-content/uploads/2023/07/livemusic_gral.jpg
END:VEVENT
BEGIN:VEVENT
DTSTART;TZID=America/Chicago:20270711T110000
DTEND;TZID=America/Chicago:20270711T150000
DTSTAMP:20260423T102840
CREATED:20230710T185653Z
LAST-MODIFIED:20251125T153130Z
UID:844318-1815303600-1815318000@schneblywinery.com
SUMMARY:Brunch Time at Schnebly Winery!
DESCRIPTION:Join us on weekends for our special BRUNCH outside! \nEnjoy delicious farm-to-table food next to our waterfalls! Add $25 during table service for UNLIMITED MIMOSAS! \nRESTAURANT RESERVATIONS\n\n\n\n  \n 
URL:https://schneblywinery.com/bookings/event/saturday-brunch-at-schnebly-winery-2025-07-19-2027-07-11/
CATEGORIES:Events
ATTACH;FMTTYPE=image/jpeg:https://schneblywinery.com/bookings/wp-content/uploads/2023/07/restaurant_gral-2.jpg
END:VEVENT
BEGIN:VEVENT
DTSTART;TZID=America/Chicago:20270711T130000
DTEND;TZID=America/Chicago:20270711T180000
DTSTAMP:20260423T102840
CREATED:20230710T151831Z
LAST-MODIFIED:20251125T160239Z
UID:843819-1815310800-1815328800@schneblywinery.com
SUMMARY:Live Music at Schnebly Winery
DESCRIPTION:Enjoy live music \nSaturdays from 1pm  to 6 pm \nSundays from 1pm  to 6 pm \nRESTAURANT RESERVATIONS\n\n\n  \n\n\n\n  \n 
URL:https://schneblywinery.com/bookings/event/live-music-saturday-2025-07-13-2027-07-11/
ATTACH;FMTTYPE=image/jpeg:https://schneblywinery.com/bookings/wp-content/uploads/2023/07/livemusic_gral.jpg
END:VEVENT
BEGIN:VEVENT
DTSTART;TZID=America/Chicago:20270717T110000
DTEND;TZID=America/Chicago:20270717T150000
DTSTAMP:20260423T102840
CREATED:20230710T185653Z
LAST-MODIFIED:20251125T153131Z
UID:844098-1815822000-1815836400@schneblywinery.com
SUMMARY:Brunch Time at Schnebly Winery!
DESCRIPTION:Join us on weekends for our special BRUNCH outside! \nEnjoy delicious farm-to-table food next to our waterfalls! Add $25 during table service for UNLIMITED MIMOSAS! \nRESTAURANT RESERVATIONS\n\n\n\n  \n 
URL:https://schneblywinery.com/bookings/event/saturday-brunch-at-schnebly-winery-2025-07-19-2027-07-17/
CATEGORIES:Events
ATTACH;FMTTYPE=image/jpeg:https://schneblywinery.com/bookings/wp-content/uploads/2023/07/restaurant_gral-2.jpg
END:VEVENT
BEGIN:VEVENT
DTSTART;TZID=America/Chicago:20270717T130000
DTEND;TZID=America/Chicago:20270717T180000
DTSTAMP:20260423T102840
CREATED:20230710T151831Z
LAST-MODIFIED:20251125T160240Z
UID:844099-1815829200-1815847200@schneblywinery.com
SUMMARY:Live Music at Schnebly Winery
DESCRIPTION:Enjoy live music \nSaturdays from 1pm  to 6 pm \nSundays from 1pm  to 6 pm \nRESTAURANT RESERVATIONS\n\n\n  \n\n\n\n  \n 
URL:https://schneblywinery.com/bookings/event/live-music-saturday-2025-07-13-2027-07-17/
ATTACH;FMTTYPE=image/jpeg:https://schneblywinery.com/bookings/wp-content/uploads/2023/07/livemusic_gral.jpg
END:VEVENT
BEGIN:VEVENT
DTSTART;TZID=America/Chicago:20270718T110000
DTEND;TZID=America/Chicago:20270718T150000
DTSTAMP:20260423T102840
CREATED:20230710T185653Z
LAST-MODIFIED:20251125T153131Z
UID:844319-1815908400-1815922800@schneblywinery.com
SUMMARY:Brunch Time at Schnebly Winery!
DESCRIPTION:Join us on weekends for our special BRUNCH outside! \nEnjoy delicious farm-to-table food next to our waterfalls! Add $25 during table service for UNLIMITED MIMOSAS! \nRESTAURANT RESERVATIONS\n\n\n\n  \n 
URL:https://schneblywinery.com/bookings/event/saturday-brunch-at-schnebly-winery-2025-07-19-2027-07-18/
CATEGORIES:Events
ATTACH;FMTTYPE=image/jpeg:https://schneblywinery.com/bookings/wp-content/uploads/2023/07/restaurant_gral-2.jpg
END:VEVENT
BEGIN:VEVENT
DTSTART;TZID=America/Chicago:20270718T130000
DTEND;TZID=America/Chicago:20270718T180000
DTSTAMP:20260423T102840
CREATED:20230710T151831Z
LAST-MODIFIED:20251125T160240Z
UID:844205-1815915600-1815933600@schneblywinery.com
SUMMARY:Live Music at Schnebly Winery
DESCRIPTION:Enjoy live music \nSaturdays from 1pm  to 6 pm \nSundays from 1pm  to 6 pm \nRESTAURANT RESERVATIONS\n\n\n  \n\n\n\n  \n 
URL:https://schneblywinery.com/bookings/event/live-music-saturday-2025-07-13-2027-07-18/
ATTACH;FMTTYPE=image/jpeg:https://schneblywinery.com/bookings/wp-content/uploads/2023/07/livemusic_gral.jpg
END:VEVENT
BEGIN:VEVENT
DTSTART;TZID=America/Chicago:20270724T110000
DTEND;TZID=America/Chicago:20270724T150000
DTSTAMP:20260423T102840
CREATED:20230710T185653Z
LAST-MODIFIED:20251125T153132Z
UID:844265-1816426800-1816441200@schneblywinery.com
SUMMARY:Brunch Time at Schnebly Winery!
DESCRIPTION:Join us on weekends for our special BRUNCH outside! \nEnjoy delicious farm-to-table food next to our waterfalls! Add $25 during table service for UNLIMITED MIMOSAS! \nRESTAURANT RESERVATIONS\n\n\n\n  \n 
URL:https://schneblywinery.com/bookings/event/saturday-brunch-at-schnebly-winery-2025-07-19-2027-07-24/
CATEGORIES:Events
ATTACH;FMTTYPE=image/jpeg:https://schneblywinery.com/bookings/wp-content/uploads/2023/07/restaurant_gral-2.jpg
END:VEVENT
BEGIN:VEVENT
DTSTART;TZID=America/Chicago:20270724T130000
DTEND;TZID=America/Chicago:20270724T180000
DTSTAMP:20260423T102840
CREATED:20230710T151831Z
LAST-MODIFIED:20251125T160241Z
UID:844266-1816434000-1816452000@schneblywinery.com
SUMMARY:Live Music at Schnebly Winery
DESCRIPTION:Enjoy live music \nSaturdays from 1pm  to 6 pm \nSundays from 1pm  to 6 pm \nRESTAURANT RESERVATIONS\n\n\n  \n\n\n\n  \n 
URL:https://schneblywinery.com/bookings/event/live-music-saturday-2025-07-13-2027-07-24/
ATTACH;FMTTYPE=image/jpeg:https://schneblywinery.com/bookings/wp-content/uploads/2023/07/livemusic_gral.jpg
END:VEVENT
BEGIN:VEVENT
DTSTART;TZID=America/Chicago:20270725T110000
DTEND;TZID=America/Chicago:20270725T150000
DTSTAMP:20260423T102840
CREATED:20230710T185653Z
LAST-MODIFIED:20251125T153133Z
UID:844320-1816513200-1816527600@schneblywinery.com
SUMMARY:Brunch Time at Schnebly Winery!
DESCRIPTION:Join us on weekends for our special BRUNCH outside! \nEnjoy delicious farm-to-table food next to our waterfalls! Add $25 during table service for UNLIMITED MIMOSAS! \nRESTAURANT RESERVATIONS\n\n\n\n  \n 
URL:https://schneblywinery.com/bookings/event/saturday-brunch-at-schnebly-winery-2025-07-19-2027-07-25/
CATEGORIES:Events
ATTACH;FMTTYPE=image/jpeg:https://schneblywinery.com/bookings/wp-content/uploads/2023/07/restaurant_gral-2.jpg
END:VEVENT
BEGIN:VEVENT
DTSTART;TZID=America/Chicago:20270725T130000
DTEND;TZID=America/Chicago:20270725T180000
DTSTAMP:20260423T102840
CREATED:20230710T151831Z
LAST-MODIFIED:20251125T160241Z
UID:844324-1816520400-1816538400@schneblywinery.com
SUMMARY:Live Music at Schnebly Winery
DESCRIPTION:Enjoy live music \nSaturdays from 1pm  to 6 pm \nSundays from 1pm  to 6 pm \nRESTAURANT RESERVATIONS\n\n\n  \n\n\n\n  \n 
URL:https://schneblywinery.com/bookings/event/live-music-saturday-2025-07-13-2027-07-25/
ATTACH;FMTTYPE=image/jpeg:https://schneblywinery.com/bookings/wp-content/uploads/2023/07/livemusic_gral.jpg
END:VEVENT
BEGIN:VEVENT
DTSTART;TZID=America/Chicago:20270731T110000
DTEND;TZID=America/Chicago:20270731T150000
DTSTAMP:20260423T102840
CREATED:20230710T185653Z
LAST-MODIFIED:20251125T153133Z
UID:844889-1817031600-1817046000@schneblywinery.com
SUMMARY:Brunch Time at Schnebly Winery!
DESCRIPTION:Join us on weekends for our special BRUNCH outside! \nEnjoy delicious farm-to-table food next to our waterfalls! Add $25 during table service for UNLIMITED MIMOSAS! \nRESTAURANT RESERVATIONS\n\n\n\n  \n 
URL:https://schneblywinery.com/bookings/event/saturday-brunch-at-schnebly-winery-2025-07-19-2027-07-31/
CATEGORIES:Events
ATTACH;FMTTYPE=image/jpeg:https://schneblywinery.com/bookings/wp-content/uploads/2023/07/restaurant_gral-2.jpg
END:VEVENT
BEGIN:VEVENT
DTSTART;TZID=America/Chicago:20270731T130000
DTEND;TZID=America/Chicago:20270731T180000
DTSTAMP:20260423T102840
CREATED:20230710T151831Z
LAST-MODIFIED:20251125T160242Z
UID:844890-1817038800-1817056800@schneblywinery.com
SUMMARY:Live Music at Schnebly Winery
DESCRIPTION:Enjoy live music \nSaturdays from 1pm  to 6 pm \nSundays from 1pm  to 6 pm \nRESTAURANT RESERVATIONS\n\n\n  \n\n\n\n  \n 
URL:https://schneblywinery.com/bookings/event/live-music-saturday-2025-07-13-2027-07-31/
ATTACH;FMTTYPE=image/jpeg:https://schneblywinery.com/bookings/wp-content/uploads/2023/07/livemusic_gral.jpg
END:VEVENT
END:VCALENDAR