BEGIN:VCALENDAR
VERSION:2.0
PRODID:-//Schnebly Winery Bookings - ECPv6.15.18//NONSGML v1.0//EN
CALSCALE:GREGORIAN
METHOD:PUBLISH
X-WR-CALNAME:Schnebly Winery Bookings
X-ORIGINAL-URL:https://schneblywinery.com/bookings
X-WR-CALDESC:Events for Schnebly Winery Bookings
REFRESH-INTERVAL;VALUE=DURATION:PT1H
X-Robots-Tag:noindex
X-PUBLISHED-TTL:PT1H
BEGIN:VTIMEZONE
TZID:America/Chicago
BEGIN:DAYLIGHT
TZOFFSETFROM:-0600
TZOFFSETTO:-0500
TZNAME:CDT
DTSTART:20260308T080000
END:DAYLIGHT
BEGIN:STANDARD
TZOFFSETFROM:-0500
TZOFFSETTO:-0600
TZNAME:CST
DTSTART:20261101T070000
END:STANDARD
BEGIN:DAYLIGHT
TZOFFSETFROM:-0600
TZOFFSETTO:-0500
TZNAME:CDT
DTSTART:20270314T080000
END:DAYLIGHT
BEGIN:STANDARD
TZOFFSETFROM:-0500
TZOFFSETTO:-0600
TZNAME:CST
DTSTART:20271107T070000
END:STANDARD
BEGIN:DAYLIGHT
TZOFFSETFROM:-0600
TZOFFSETTO:-0500
TZNAME:CDT
DTSTART:20280312T080000
END:DAYLIGHT
BEGIN:STANDARD
TZOFFSETFROM:-0500
TZOFFSETTO:-0600
TZNAME:CST
DTSTART:20281105T070000
END:STANDARD
END:VTIMEZONE
BEGIN:VEVENT
DTSTART;TZID=America/Chicago:20270801T110000
DTEND;TZID=America/Chicago:20270801T150000
DTSTAMP:20260423T121403
CREATED:20230710T185653Z
LAST-MODIFIED:20251125T153134Z
UID:844942-1817118000-1817132400@schneblywinery.com
SUMMARY:Brunch Time at Schnebly Winery!
DESCRIPTION:Join us on weekends for our special BRUNCH outside! \nEnjoy delicious farm-to-table food next to our waterfalls! Add $25 during table service for UNLIMITED MIMOSAS! \nRESTAURANT RESERVATIONS\n\n\n\n  \n 
URL:https://schneblywinery.com/bookings/event/saturday-brunch-at-schnebly-winery-2025-07-19-2027-08-01/
CATEGORIES:Events
ATTACH;FMTTYPE=image/jpeg:https://schneblywinery.com/bookings/wp-content/uploads/2023/07/restaurant_gral-2.jpg
END:VEVENT
BEGIN:VEVENT
DTSTART;TZID=America/Chicago:20270801T130000
DTEND;TZID=America/Chicago:20270801T180000
DTSTAMP:20260423T121403
CREATED:20230710T151831Z
LAST-MODIFIED:20251125T160242Z
UID:844943-1817125200-1817143200@schneblywinery.com
SUMMARY:Live Music at Schnebly Winery
DESCRIPTION:Enjoy live music \nSaturdays from 1pm  to 6 pm \nSundays from 1pm  to 6 pm \nRESTAURANT RESERVATIONS\n\n\n  \n\n\n\n  \n 
URL:https://schneblywinery.com/bookings/event/live-music-saturday-2025-07-13-2027-08-01/
ATTACH;FMTTYPE=image/jpeg:https://schneblywinery.com/bookings/wp-content/uploads/2023/07/livemusic_gral.jpg
END:VEVENT
BEGIN:VEVENT
DTSTART;TZID=America/Chicago:20270807T110000
DTEND;TZID=America/Chicago:20270807T150000
DTSTAMP:20260423T121403
CREATED:20230710T185653Z
LAST-MODIFIED:20251125T153134Z
UID:845091-1817636400-1817650800@schneblywinery.com
SUMMARY:Brunch Time at Schnebly Winery!
DESCRIPTION:Join us on weekends for our special BRUNCH outside! \nEnjoy delicious farm-to-table food next to our waterfalls! Add $25 during table service for UNLIMITED MIMOSAS! \nRESTAURANT RESERVATIONS\n\n\n\n  \n 
URL:https://schneblywinery.com/bookings/event/saturday-brunch-at-schnebly-winery-2025-07-19-2027-08-07/
CATEGORIES:Events
ATTACH;FMTTYPE=image/jpeg:https://schneblywinery.com/bookings/wp-content/uploads/2023/07/restaurant_gral-2.jpg
END:VEVENT
BEGIN:VEVENT
DTSTART;TZID=America/Chicago:20270807T130000
DTEND;TZID=America/Chicago:20270807T180000
DTSTAMP:20260423T121403
CREATED:20230710T151831Z
LAST-MODIFIED:20251125T160243Z
UID:845092-1817643600-1817661600@schneblywinery.com
SUMMARY:Live Music at Schnebly Winery
DESCRIPTION:Enjoy live music \nSaturdays from 1pm  to 6 pm \nSundays from 1pm  to 6 pm \nRESTAURANT RESERVATIONS\n\n\n  \n\n\n\n  \n 
URL:https://schneblywinery.com/bookings/event/live-music-saturday-2025-07-13-2027-08-07/
ATTACH;FMTTYPE=image/jpeg:https://schneblywinery.com/bookings/wp-content/uploads/2023/07/livemusic_gral.jpg
END:VEVENT
BEGIN:VEVENT
DTSTART;TZID=America/Chicago:20270808T110000
DTEND;TZID=America/Chicago:20270808T150000
DTSTAMP:20260423T121403
CREATED:20230710T185653Z
LAST-MODIFIED:20251125T153135Z
UID:845154-1817722800-1817737200@schneblywinery.com
SUMMARY:Brunch Time at Schnebly Winery!
DESCRIPTION:Join us on weekends for our special BRUNCH outside! \nEnjoy delicious farm-to-table food next to our waterfalls! Add $25 during table service for UNLIMITED MIMOSAS! \nRESTAURANT RESERVATIONS\n\n\n\n  \n 
URL:https://schneblywinery.com/bookings/event/saturday-brunch-at-schnebly-winery-2025-07-19-2027-08-08/
CATEGORIES:Events
ATTACH;FMTTYPE=image/jpeg:https://schneblywinery.com/bookings/wp-content/uploads/2023/07/restaurant_gral-2.jpg
END:VEVENT
BEGIN:VEVENT
DTSTART;TZID=America/Chicago:20270808T130000
DTEND;TZID=America/Chicago:20270808T180000
DTSTAMP:20260423T121403
CREATED:20230710T151831Z
LAST-MODIFIED:20251125T160243Z
UID:845155-1817730000-1817748000@schneblywinery.com
SUMMARY:Live Music at Schnebly Winery
DESCRIPTION:Enjoy live music \nSaturdays from 1pm  to 6 pm \nSundays from 1pm  to 6 pm \nRESTAURANT RESERVATIONS\n\n\n  \n\n\n\n  \n 
URL:https://schneblywinery.com/bookings/event/live-music-saturday-2025-07-13-2027-08-08/
ATTACH;FMTTYPE=image/jpeg:https://schneblywinery.com/bookings/wp-content/uploads/2023/07/livemusic_gral.jpg
END:VEVENT
BEGIN:VEVENT
DTSTART;TZID=America/Chicago:20270814T110000
DTEND;TZID=America/Chicago:20270814T150000
DTSTAMP:20260423T121403
CREATED:20230710T185653Z
LAST-MODIFIED:20251125T153136Z
UID:845478-1818241200-1818255600@schneblywinery.com
SUMMARY:Brunch Time at Schnebly Winery!
DESCRIPTION:Join us on weekends for our special BRUNCH outside! \nEnjoy delicious farm-to-table food next to our waterfalls! Add $25 during table service for UNLIMITED MIMOSAS! \nRESTAURANT RESERVATIONS\n\n\n\n  \n 
URL:https://schneblywinery.com/bookings/event/saturday-brunch-at-schnebly-winery-2025-07-19-2027-08-14/
CATEGORIES:Events
ATTACH;FMTTYPE=image/jpeg:https://schneblywinery.com/bookings/wp-content/uploads/2023/07/restaurant_gral-2.jpg
END:VEVENT
BEGIN:VEVENT
DTSTART;TZID=America/Chicago:20270814T130000
DTEND;TZID=America/Chicago:20270814T180000
DTSTAMP:20260423T121403
CREATED:20230710T151831Z
LAST-MODIFIED:20251125T160244Z
UID:845479-1818248400-1818266400@schneblywinery.com
SUMMARY:Live Music at Schnebly Winery
DESCRIPTION:Enjoy live music \nSaturdays from 1pm  to 6 pm \nSundays from 1pm  to 6 pm \nRESTAURANT RESERVATIONS\n\n\n  \n\n\n\n  \n 
URL:https://schneblywinery.com/bookings/event/live-music-saturday-2025-07-13-2027-08-14/
ATTACH;FMTTYPE=image/jpeg:https://schneblywinery.com/bookings/wp-content/uploads/2023/07/livemusic_gral.jpg
END:VEVENT
BEGIN:VEVENT
DTSTART;TZID=America/Chicago:20270815T110000
DTEND;TZID=America/Chicago:20270815T150000
DTSTAMP:20260423T121403
CREATED:20230710T185653Z
LAST-MODIFIED:20251125T153136Z
UID:845626-1818327600-1818342000@schneblywinery.com
SUMMARY:Brunch Time at Schnebly Winery!
DESCRIPTION:Join us on weekends for our special BRUNCH outside! \nEnjoy delicious farm-to-table food next to our waterfalls! Add $25 during table service for UNLIMITED MIMOSAS! \nRESTAURANT RESERVATIONS\n\n\n\n  \n 
URL:https://schneblywinery.com/bookings/event/saturday-brunch-at-schnebly-winery-2025-07-19-2027-08-15/
CATEGORIES:Events
ATTACH;FMTTYPE=image/jpeg:https://schneblywinery.com/bookings/wp-content/uploads/2023/07/restaurant_gral-2.jpg
END:VEVENT
BEGIN:VEVENT
DTSTART;TZID=America/Chicago:20270815T130000
DTEND;TZID=America/Chicago:20270815T180000
DTSTAMP:20260423T121403
CREATED:20230710T151831Z
LAST-MODIFIED:20251125T160244Z
UID:845628-1818334800-1818352800@schneblywinery.com
SUMMARY:Live Music at Schnebly Winery
DESCRIPTION:Enjoy live music \nSaturdays from 1pm  to 6 pm \nSundays from 1pm  to 6 pm \nRESTAURANT RESERVATIONS\n\n\n  \n\n\n\n  \n 
URL:https://schneblywinery.com/bookings/event/live-music-saturday-2025-07-13-2027-08-15/
ATTACH;FMTTYPE=image/jpeg:https://schneblywinery.com/bookings/wp-content/uploads/2023/07/livemusic_gral.jpg
END:VEVENT
BEGIN:VEVENT
DTSTART;TZID=America/Chicago:20270821T110000
DTEND;TZID=America/Chicago:20270821T150000
DTSTAMP:20260423T121403
CREATED:20230710T185653Z
LAST-MODIFIED:20251125T153137Z
UID:845581-1818846000-1818860400@schneblywinery.com
SUMMARY:Brunch Time at Schnebly Winery!
DESCRIPTION:Join us on weekends for our special BRUNCH outside! \nEnjoy delicious farm-to-table food next to our waterfalls! Add $25 during table service for UNLIMITED MIMOSAS! \nRESTAURANT RESERVATIONS\n\n\n\n  \n 
URL:https://schneblywinery.com/bookings/event/saturday-brunch-at-schnebly-winery-2025-07-19-2027-08-21/
CATEGORIES:Events
ATTACH;FMTTYPE=image/jpeg:https://schneblywinery.com/bookings/wp-content/uploads/2023/07/restaurant_gral-2.jpg
END:VEVENT
BEGIN:VEVENT
DTSTART;TZID=America/Chicago:20270821T130000
DTEND;TZID=America/Chicago:20270821T180000
DTSTAMP:20260423T121403
CREATED:20230710T151831Z
LAST-MODIFIED:20251125T160245Z
UID:845582-1818853200-1818871200@schneblywinery.com
SUMMARY:Live Music at Schnebly Winery
DESCRIPTION:Enjoy live music \nSaturdays from 1pm  to 6 pm \nSundays from 1pm  to 6 pm \nRESTAURANT RESERVATIONS\n\n\n  \n\n\n\n  \n 
URL:https://schneblywinery.com/bookings/event/live-music-saturday-2025-07-13-2027-08-21/
ATTACH;FMTTYPE=image/jpeg:https://schneblywinery.com/bookings/wp-content/uploads/2023/07/livemusic_gral.jpg
END:VEVENT
BEGIN:VEVENT
DTSTART;TZID=America/Chicago:20270822T110000
DTEND;TZID=America/Chicago:20270822T150000
DTSTAMP:20260423T121403
CREATED:20230710T185653Z
LAST-MODIFIED:20251125T153137Z
UID:845627-1818932400-1818946800@schneblywinery.com
SUMMARY:Brunch Time at Schnebly Winery!
DESCRIPTION:Join us on weekends for our special BRUNCH outside! \nEnjoy delicious farm-to-table food next to our waterfalls! Add $25 during table service for UNLIMITED MIMOSAS! \nRESTAURANT RESERVATIONS\n\n\n\n  \n 
URL:https://schneblywinery.com/bookings/event/saturday-brunch-at-schnebly-winery-2025-07-19-2027-08-22/
CATEGORIES:Events
ATTACH;FMTTYPE=image/jpeg:https://schneblywinery.com/bookings/wp-content/uploads/2023/07/restaurant_gral-2.jpg
END:VEVENT
BEGIN:VEVENT
DTSTART;TZID=America/Chicago:20270822T130000
DTEND;TZID=America/Chicago:20270822T180000
DTSTAMP:20260423T121403
CREATED:20230710T151831Z
LAST-MODIFIED:20251125T160245Z
UID:845629-1818939600-1818957600@schneblywinery.com
SUMMARY:Live Music at Schnebly Winery
DESCRIPTION:Enjoy live music \nSaturdays from 1pm  to 6 pm \nSundays from 1pm  to 6 pm \nRESTAURANT RESERVATIONS\n\n\n  \n\n\n\n  \n 
URL:https://schneblywinery.com/bookings/event/live-music-saturday-2025-07-13-2027-08-22/
ATTACH;FMTTYPE=image/jpeg:https://schneblywinery.com/bookings/wp-content/uploads/2023/07/livemusic_gral.jpg
END:VEVENT
BEGIN:VEVENT
DTSTART;TZID=America/Chicago:20270828T110000
DTEND;TZID=America/Chicago:20270828T150000
DTSTAMP:20260423T121403
CREATED:20230710T185653Z
LAST-MODIFIED:20251125T153138Z
UID:845965-1819450800-1819465200@schneblywinery.com
SUMMARY:Brunch Time at Schnebly Winery!
DESCRIPTION:Join us on weekends for our special BRUNCH outside! \nEnjoy delicious farm-to-table food next to our waterfalls! Add $25 during table service for UNLIMITED MIMOSAS! \nRESTAURANT RESERVATIONS\n\n\n\n  \n 
URL:https://schneblywinery.com/bookings/event/saturday-brunch-at-schnebly-winery-2025-07-19-2027-08-28/
CATEGORIES:Events
ATTACH;FMTTYPE=image/jpeg:https://schneblywinery.com/bookings/wp-content/uploads/2023/07/restaurant_gral-2.jpg
END:VEVENT
BEGIN:VEVENT
DTSTART;TZID=America/Chicago:20270828T130000
DTEND;TZID=America/Chicago:20270828T180000
DTSTAMP:20260423T121403
CREATED:20230710T151831Z
LAST-MODIFIED:20251125T160246Z
UID:845966-1819458000-1819476000@schneblywinery.com
SUMMARY:Live Music at Schnebly Winery
DESCRIPTION:Enjoy live music \nSaturdays from 1pm  to 6 pm \nSundays from 1pm  to 6 pm \nRESTAURANT RESERVATIONS\n\n\n  \n\n\n\n  \n 
URL:https://schneblywinery.com/bookings/event/live-music-saturday-2025-07-13-2027-08-28/
ATTACH;FMTTYPE=image/jpeg:https://schneblywinery.com/bookings/wp-content/uploads/2023/07/livemusic_gral.jpg
END:VEVENT
BEGIN:VEVENT
DTSTART;TZID=America/Chicago:20270829T110000
DTEND;TZID=America/Chicago:20270829T150000
DTSTAMP:20260423T121403
CREATED:20230710T185653Z
LAST-MODIFIED:20251125T153139Z
UID:846010-1819537200-1819551600@schneblywinery.com
SUMMARY:Brunch Time at Schnebly Winery!
DESCRIPTION:Join us on weekends for our special BRUNCH outside! \nEnjoy delicious farm-to-table food next to our waterfalls! Add $25 during table service for UNLIMITED MIMOSAS! \nRESTAURANT RESERVATIONS\n\n\n\n  \n 
URL:https://schneblywinery.com/bookings/event/saturday-brunch-at-schnebly-winery-2025-07-19-2027-08-29/
CATEGORIES:Events
ATTACH;FMTTYPE=image/jpeg:https://schneblywinery.com/bookings/wp-content/uploads/2023/07/restaurant_gral-2.jpg
END:VEVENT
BEGIN:VEVENT
DTSTART;TZID=America/Chicago:20270829T130000
DTEND;TZID=America/Chicago:20270829T180000
DTSTAMP:20260423T121403
CREATED:20230710T151831Z
LAST-MODIFIED:20251125T160246Z
UID:846011-1819544400-1819562400@schneblywinery.com
SUMMARY:Live Music at Schnebly Winery
DESCRIPTION:Enjoy live music \nSaturdays from 1pm  to 6 pm \nSundays from 1pm  to 6 pm \nRESTAURANT RESERVATIONS\n\n\n  \n\n\n\n  \n 
URL:https://schneblywinery.com/bookings/event/live-music-saturday-2025-07-13-2027-08-29/
ATTACH;FMTTYPE=image/jpeg:https://schneblywinery.com/bookings/wp-content/uploads/2023/07/livemusic_gral.jpg
END:VEVENT
END:VCALENDAR