BEGIN:VCALENDAR
VERSION:2.0
PRODID:-//Schnebly Winery Bookings - ECPv6.15.18//NONSGML v1.0//EN
CALSCALE:GREGORIAN
METHOD:PUBLISH
X-ORIGINAL-URL:https://schneblywinery.com/bookings
X-WR-CALDESC:Events for Schnebly Winery Bookings
REFRESH-INTERVAL;VALUE=DURATION:PT1H
X-Robots-Tag:noindex
X-PUBLISHED-TTL:PT1H
BEGIN:VTIMEZONE
TZID:America/Chicago
BEGIN:DAYLIGHT
TZOFFSETFROM:-0600
TZOFFSETTO:-0500
TZNAME:CDT
DTSTART:20260308T080000
END:DAYLIGHT
BEGIN:STANDARD
TZOFFSETFROM:-0500
TZOFFSETTO:-0600
TZNAME:CST
DTSTART:20261101T070000
END:STANDARD
BEGIN:DAYLIGHT
TZOFFSETFROM:-0600
TZOFFSETTO:-0500
TZNAME:CDT
DTSTART:20270314T080000
END:DAYLIGHT
BEGIN:STANDARD
TZOFFSETFROM:-0500
TZOFFSETTO:-0600
TZNAME:CST
DTSTART:20271107T070000
END:STANDARD
BEGIN:DAYLIGHT
TZOFFSETFROM:-0600
TZOFFSETTO:-0500
TZNAME:CDT
DTSTART:20280312T080000
END:DAYLIGHT
BEGIN:STANDARD
TZOFFSETFROM:-0500
TZOFFSETTO:-0600
TZNAME:CST
DTSTART:20281105T070000
END:STANDARD
END:VTIMEZONE
BEGIN:VEVENT
DTSTART;TZID=America/Chicago:20270904T110000
DTEND;TZID=America/Chicago:20270904T150000
DTSTAMP:20260423T135156
CREATED:20230710T185653Z
LAST-MODIFIED:20251125T153139Z
UID:846203-1820055600-1820070000@schneblywinery.com
SUMMARY:Brunch Time at Schnebly Winery!
DESCRIPTION:Join us on weekends for our special BRUNCH outside! \nEnjoy delicious farm-to-table food next to our waterfalls! Add $25 during table service for UNLIMITED MIMOSAS! \nRESTAURANT RESERVATIONS\n\n\n\n  \n 
URL:https://schneblywinery.com/bookings/event/saturday-brunch-at-schnebly-winery-2025-07-19-2027-09-04/
CATEGORIES:Events
ATTACH;FMTTYPE=image/jpeg:https://schneblywinery.com/bookings/wp-content/uploads/2023/07/restaurant_gral-2.jpg
END:VEVENT
BEGIN:VEVENT
DTSTART;TZID=America/Chicago:20270904T130000
DTEND;TZID=America/Chicago:20270904T180000
DTSTAMP:20260423T135156
CREATED:20230710T151831Z
LAST-MODIFIED:20251125T160247Z
UID:846204-1820062800-1820080800@schneblywinery.com
SUMMARY:Live Music at Schnebly Winery
DESCRIPTION:Enjoy live music \nSaturdays from 1pm  to 6 pm \nSundays from 1pm  to 6 pm \nRESTAURANT RESERVATIONS\n\n\n  \n\n\n\n  \n 
URL:https://schneblywinery.com/bookings/event/live-music-saturday-2025-07-13-2027-09-04/
ATTACH;FMTTYPE=image/jpeg:https://schneblywinery.com/bookings/wp-content/uploads/2023/07/livemusic_gral.jpg
END:VEVENT
BEGIN:VEVENT
DTSTART;TZID=America/Chicago:20270905T110000
DTEND;TZID=America/Chicago:20270905T150000
DTSTAMP:20260423T135156
CREATED:20230710T185653Z
LAST-MODIFIED:20251125T153140Z
UID:846258-1820142000-1820156400@schneblywinery.com
SUMMARY:Brunch Time at Schnebly Winery!
DESCRIPTION:Join us on weekends for our special BRUNCH outside! \nEnjoy delicious farm-to-table food next to our waterfalls! Add $25 during table service for UNLIMITED MIMOSAS! \nRESTAURANT RESERVATIONS\n\n\n\n  \n 
URL:https://schneblywinery.com/bookings/event/saturday-brunch-at-schnebly-winery-2025-07-19-2027-09-05/
CATEGORIES:Events
ATTACH;FMTTYPE=image/jpeg:https://schneblywinery.com/bookings/wp-content/uploads/2023/07/restaurant_gral-2.jpg
END:VEVENT
BEGIN:VEVENT
DTSTART;TZID=America/Chicago:20270905T130000
DTEND;TZID=America/Chicago:20270905T180000
DTSTAMP:20260423T135156
CREATED:20230710T151831Z
LAST-MODIFIED:20251125T160247Z
UID:846257-1820149200-1820167200@schneblywinery.com
SUMMARY:Live Music at Schnebly Winery
DESCRIPTION:Enjoy live music \nSaturdays from 1pm  to 6 pm \nSundays from 1pm  to 6 pm \nRESTAURANT RESERVATIONS\n\n\n  \n\n\n\n  \n 
URL:https://schneblywinery.com/bookings/event/live-music-saturday-2025-07-13-2027-09-05/
ATTACH;FMTTYPE=image/jpeg:https://schneblywinery.com/bookings/wp-content/uploads/2023/07/livemusic_gral.jpg
END:VEVENT
BEGIN:VEVENT
DTSTART;TZID=America/Chicago:20270911T110000
DTEND;TZID=America/Chicago:20270911T150000
DTSTAMP:20260423T135156
CREATED:20230710T185653Z
LAST-MODIFIED:20251125T153140Z
UID:846423-1820660400-1820674800@schneblywinery.com
SUMMARY:Brunch Time at Schnebly Winery!
DESCRIPTION:Join us on weekends for our special BRUNCH outside! \nEnjoy delicious farm-to-table food next to our waterfalls! Add $25 during table service for UNLIMITED MIMOSAS! \nRESTAURANT RESERVATIONS\n\n\n\n  \n 
URL:https://schneblywinery.com/bookings/event/saturday-brunch-at-schnebly-winery-2025-07-19-2027-09-11/
CATEGORIES:Events
ATTACH;FMTTYPE=image/jpeg:https://schneblywinery.com/bookings/wp-content/uploads/2023/07/restaurant_gral-2.jpg
END:VEVENT
BEGIN:VEVENT
DTSTART;TZID=America/Chicago:20270911T130000
DTEND;TZID=America/Chicago:20270911T180000
DTSTAMP:20260423T135156
CREATED:20230710T151831Z
LAST-MODIFIED:20251125T160248Z
UID:846424-1820667600-1820685600@schneblywinery.com
SUMMARY:Live Music at Schnebly Winery
DESCRIPTION:Enjoy live music \nSaturdays from 1pm  to 6 pm \nSundays from 1pm  to 6 pm \nRESTAURANT RESERVATIONS\n\n\n  \n\n\n\n  \n 
URL:https://schneblywinery.com/bookings/event/live-music-saturday-2025-07-13-2027-09-11/
ATTACH;FMTTYPE=image/jpeg:https://schneblywinery.com/bookings/wp-content/uploads/2023/07/livemusic_gral.jpg
END:VEVENT
BEGIN:VEVENT
DTSTART;TZID=America/Chicago:20270912T110000
DTEND;TZID=America/Chicago:20270912T150000
DTSTAMP:20260423T135156
CREATED:20230710T185653Z
LAST-MODIFIED:20251125T153141Z
UID:846455-1820746800-1820761200@schneblywinery.com
SUMMARY:Brunch Time at Schnebly Winery!
DESCRIPTION:Join us on weekends for our special BRUNCH outside! \nEnjoy delicious farm-to-table food next to our waterfalls! Add $25 during table service for UNLIMITED MIMOSAS! \nRESTAURANT RESERVATIONS\n\n\n\n  \n 
URL:https://schneblywinery.com/bookings/event/saturday-brunch-at-schnebly-winery-2025-07-19-2027-09-12/
CATEGORIES:Events
ATTACH;FMTTYPE=image/jpeg:https://schneblywinery.com/bookings/wp-content/uploads/2023/07/restaurant_gral-2.jpg
END:VEVENT
BEGIN:VEVENT
DTSTART;TZID=America/Chicago:20270912T130000
DTEND;TZID=America/Chicago:20270912T180000
DTSTAMP:20260423T135156
CREATED:20230710T151831Z
LAST-MODIFIED:20251125T160248Z
UID:846458-1820754000-1820772000@schneblywinery.com
SUMMARY:Live Music at Schnebly Winery
DESCRIPTION:Enjoy live music \nSaturdays from 1pm  to 6 pm \nSundays from 1pm  to 6 pm \nRESTAURANT RESERVATIONS\n\n\n  \n\n\n\n  \n 
URL:https://schneblywinery.com/bookings/event/live-music-saturday-2025-07-13-2027-09-12/
ATTACH;FMTTYPE=image/jpeg:https://schneblywinery.com/bookings/wp-content/uploads/2023/07/livemusic_gral.jpg
END:VEVENT
BEGIN:VEVENT
DTSTART;TZID=America/Chicago:20270918T110000
DTEND;TZID=America/Chicago:20270918T150000
DTSTAMP:20260423T135156
CREATED:20230710T185653Z
LAST-MODIFIED:20251125T153141Z
UID:846541-1821265200-1821279600@schneblywinery.com
SUMMARY:Brunch Time at Schnebly Winery!
DESCRIPTION:Join us on weekends for our special BRUNCH outside! \nEnjoy delicious farm-to-table food next to our waterfalls! Add $25 during table service for UNLIMITED MIMOSAS! \nRESTAURANT RESERVATIONS\n\n\n\n  \n 
URL:https://schneblywinery.com/bookings/event/saturday-brunch-at-schnebly-winery-2025-07-19-2027-09-18/
CATEGORIES:Events
ATTACH;FMTTYPE=image/jpeg:https://schneblywinery.com/bookings/wp-content/uploads/2023/07/restaurant_gral-2.jpg
END:VEVENT
BEGIN:VEVENT
DTSTART;TZID=America/Chicago:20270918T130000
DTEND;TZID=America/Chicago:20270918T180000
DTSTAMP:20260423T135156
CREATED:20230710T151831Z
LAST-MODIFIED:20251125T160249Z
UID:846542-1821272400-1821290400@schneblywinery.com
SUMMARY:Live Music at Schnebly Winery
DESCRIPTION:Enjoy live music \nSaturdays from 1pm  to 6 pm \nSundays from 1pm  to 6 pm \nRESTAURANT RESERVATIONS\n\n\n  \n\n\n\n  \n 
URL:https://schneblywinery.com/bookings/event/live-music-saturday-2025-07-13-2027-09-18/
ATTACH;FMTTYPE=image/jpeg:https://schneblywinery.com/bookings/wp-content/uploads/2023/07/livemusic_gral.jpg
END:VEVENT
BEGIN:VEVENT
DTSTART;TZID=America/Chicago:20270919T110000
DTEND;TZID=America/Chicago:20270919T150000
DTSTAMP:20260423T135156
CREATED:20230710T185653Z
LAST-MODIFIED:20251125T153142Z
UID:846580-1821351600-1821366000@schneblywinery.com
SUMMARY:Brunch Time at Schnebly Winery!
DESCRIPTION:Join us on weekends for our special BRUNCH outside! \nEnjoy delicious farm-to-table food next to our waterfalls! Add $25 during table service for UNLIMITED MIMOSAS! \nRESTAURANT RESERVATIONS\n\n\n\n  \n 
URL:https://schneblywinery.com/bookings/event/saturday-brunch-at-schnebly-winery-2025-07-19-2027-09-19/
CATEGORIES:Events
ATTACH;FMTTYPE=image/jpeg:https://schneblywinery.com/bookings/wp-content/uploads/2023/07/restaurant_gral-2.jpg
END:VEVENT
BEGIN:VEVENT
DTSTART;TZID=America/Chicago:20270919T130000
DTEND;TZID=America/Chicago:20270919T180000
DTSTAMP:20260423T135156
CREATED:20230710T151831Z
LAST-MODIFIED:20251125T160249Z
UID:846581-1821358800-1821376800@schneblywinery.com
SUMMARY:Live Music at Schnebly Winery
DESCRIPTION:Enjoy live music \nSaturdays from 1pm  to 6 pm \nSundays from 1pm  to 6 pm \nRESTAURANT RESERVATIONS\n\n\n  \n\n\n\n  \n 
URL:https://schneblywinery.com/bookings/event/live-music-saturday-2025-07-13-2027-09-19/
ATTACH;FMTTYPE=image/jpeg:https://schneblywinery.com/bookings/wp-content/uploads/2023/07/livemusic_gral.jpg
END:VEVENT
BEGIN:VEVENT
DTSTART;TZID=America/Chicago:20270925T110000
DTEND;TZID=America/Chicago:20270925T150000
DTSTAMP:20260423T135156
CREATED:20230710T185653Z
LAST-MODIFIED:20251125T153142Z
UID:846711-1821870000-1821884400@schneblywinery.com
SUMMARY:Brunch Time at Schnebly Winery!
DESCRIPTION:Join us on weekends for our special BRUNCH outside! \nEnjoy delicious farm-to-table food next to our waterfalls! Add $25 during table service for UNLIMITED MIMOSAS! \nRESTAURANT RESERVATIONS\n\n\n\n  \n 
URL:https://schneblywinery.com/bookings/event/saturday-brunch-at-schnebly-winery-2025-07-19-2027-09-25/
CATEGORIES:Events
ATTACH;FMTTYPE=image/jpeg:https://schneblywinery.com/bookings/wp-content/uploads/2023/07/restaurant_gral-2.jpg
END:VEVENT
BEGIN:VEVENT
DTSTART;TZID=America/Chicago:20270925T130000
DTEND;TZID=America/Chicago:20270925T180000
DTSTAMP:20260423T135156
CREATED:20230710T151831Z
LAST-MODIFIED:20251125T160250Z
UID:846712-1821877200-1821895200@schneblywinery.com
SUMMARY:Live Music at Schnebly Winery
DESCRIPTION:Enjoy live music \nSaturdays from 1pm  to 6 pm \nSundays from 1pm  to 6 pm \nRESTAURANT RESERVATIONS\n\n\n  \n\n\n\n  \n 
URL:https://schneblywinery.com/bookings/event/live-music-saturday-2025-07-13-2027-09-25/
ATTACH;FMTTYPE=image/jpeg:https://schneblywinery.com/bookings/wp-content/uploads/2023/07/livemusic_gral.jpg
END:VEVENT
BEGIN:VEVENT
DTSTART;TZID=America/Chicago:20270926T110000
DTEND;TZID=America/Chicago:20270926T150000
DTSTAMP:20260423T135156
CREATED:20230710T185653Z
LAST-MODIFIED:20251125T153143Z
UID:846766-1821956400-1821970800@schneblywinery.com
SUMMARY:Brunch Time at Schnebly Winery!
DESCRIPTION:Join us on weekends for our special BRUNCH outside! \nEnjoy delicious farm-to-table food next to our waterfalls! Add $25 during table service for UNLIMITED MIMOSAS! \nRESTAURANT RESERVATIONS\n\n\n\n  \n 
URL:https://schneblywinery.com/bookings/event/saturday-brunch-at-schnebly-winery-2025-07-19-2027-09-26/
CATEGORIES:Events
ATTACH;FMTTYPE=image/jpeg:https://schneblywinery.com/bookings/wp-content/uploads/2023/07/restaurant_gral-2.jpg
END:VEVENT
BEGIN:VEVENT
DTSTART;TZID=America/Chicago:20270926T130000
DTEND;TZID=America/Chicago:20270926T180000
DTSTAMP:20260423T135156
CREATED:20230710T151831Z
LAST-MODIFIED:20251125T160250Z
UID:846767-1821963600-1821981600@schneblywinery.com
SUMMARY:Live Music at Schnebly Winery
DESCRIPTION:Enjoy live music \nSaturdays from 1pm  to 6 pm \nSundays from 1pm  to 6 pm \nRESTAURANT RESERVATIONS\n\n\n  \n\n\n\n  \n 
URL:https://schneblywinery.com/bookings/event/live-music-saturday-2025-07-13-2027-09-26/
ATTACH;FMTTYPE=image/jpeg:https://schneblywinery.com/bookings/wp-content/uploads/2023/07/livemusic_gral.jpg
END:VEVENT
END:VCALENDAR