BEGIN:VCALENDAR
VERSION:2.0
PRODID:-//Schnebly Winery Bookings - ECPv6.15.18//NONSGML v1.0//EN
CALSCALE:GREGORIAN
METHOD:PUBLISH
X-ORIGINAL-URL:https://schneblywinery.com/bookings
X-WR-CALDESC:Events for Schnebly Winery Bookings
REFRESH-INTERVAL;VALUE=DURATION:PT1H
X-Robots-Tag:noindex
X-PUBLISHED-TTL:PT1H
BEGIN:VTIMEZONE
TZID:America/Chicago
BEGIN:DAYLIGHT
TZOFFSETFROM:-0600
TZOFFSETTO:-0500
TZNAME:CDT
DTSTART:20260308T080000
END:DAYLIGHT
BEGIN:STANDARD
TZOFFSETFROM:-0500
TZOFFSETTO:-0600
TZNAME:CST
DTSTART:20261101T070000
END:STANDARD
BEGIN:DAYLIGHT
TZOFFSETFROM:-0600
TZOFFSETTO:-0500
TZNAME:CDT
DTSTART:20270314T080000
END:DAYLIGHT
BEGIN:STANDARD
TZOFFSETFROM:-0500
TZOFFSETTO:-0600
TZNAME:CST
DTSTART:20271107T070000
END:STANDARD
BEGIN:DAYLIGHT
TZOFFSETFROM:-0600
TZOFFSETTO:-0500
TZNAME:CDT
DTSTART:20280312T080000
END:DAYLIGHT
BEGIN:STANDARD
TZOFFSETFROM:-0500
TZOFFSETTO:-0600
TZNAME:CST
DTSTART:20281105T070000
END:STANDARD
END:VTIMEZONE
BEGIN:VEVENT
DTSTART;TZID=America/Chicago:20271106T110000
DTEND;TZID=America/Chicago:20271106T150000
DTSTAMP:20260423T171624
CREATED:20230710T185653Z
LAST-MODIFIED:20251125T153149Z
UID:848279-1825498800-1825513200@schneblywinery.com
SUMMARY:Brunch Time at Schnebly Winery!
DESCRIPTION:Join us on weekends for our special BRUNCH outside! \nEnjoy delicious farm-to-table food next to our waterfalls! Add $25 during table service for UNLIMITED MIMOSAS! \nRESTAURANT RESERVATIONS\n\n\n\n  \n 
URL:https://schneblywinery.com/bookings/event/saturday-brunch-at-schnebly-winery-2025-07-19-2027-11-06/
CATEGORIES:Events
ATTACH;FMTTYPE=image/jpeg:https://schneblywinery.com/bookings/wp-content/uploads/2023/07/restaurant_gral-2.jpg
END:VEVENT
BEGIN:VEVENT
DTSTART;TZID=America/Chicago:20271106T130000
DTEND;TZID=America/Chicago:20271106T180000
DTSTAMP:20260423T171624
CREATED:20230710T151831Z
LAST-MODIFIED:20251125T163118Z
UID:848280-1825506000-1825524000@schneblywinery.com
SUMMARY:Live Music at Schnebly Winery
DESCRIPTION:Enjoy live music \nSaturdays from 1pm  to 6 pm \nSundays from 1pm  to 6 pm \nRESTAURANT RESERVATIONS\n\n\n  \n\n\n\n  \n 
URL:https://schneblywinery.com/bookings/event/live-music-saturday-2025-07-13-2027-11-06/
ATTACH;FMTTYPE=image/jpeg:https://schneblywinery.com/bookings/wp-content/uploads/2023/07/livemusic_gral.jpg
END:VEVENT
BEGIN:VEVENT
DTSTART;TZID=America/Chicago:20271107T110000
DTEND;TZID=America/Chicago:20271107T150000
DTSTAMP:20260423T171624
CREATED:20230710T185653Z
LAST-MODIFIED:20251125T153150Z
UID:848337-1825585200-1825599600@schneblywinery.com
SUMMARY:Brunch Time at Schnebly Winery!
DESCRIPTION:Join us on weekends for our special BRUNCH outside! \nEnjoy delicious farm-to-table food next to our waterfalls! Add $25 during table service for UNLIMITED MIMOSAS! \nRESTAURANT RESERVATIONS\n\n\n\n  \n 
URL:https://schneblywinery.com/bookings/event/saturday-brunch-at-schnebly-winery-2025-07-19-2027-11-07/
CATEGORIES:Events
ATTACH;FMTTYPE=image/jpeg:https://schneblywinery.com/bookings/wp-content/uploads/2023/07/restaurant_gral-2.jpg
END:VEVENT
BEGIN:VEVENT
DTSTART;TZID=America/Chicago:20271107T130000
DTEND;TZID=America/Chicago:20271107T180000
DTSTAMP:20260423T171624
CREATED:20230710T151831Z
LAST-MODIFIED:20251125T163119Z
UID:848331-1825592400-1825610400@schneblywinery.com
SUMMARY:Live Music at Schnebly Winery
DESCRIPTION:Enjoy live music \nSaturdays from 1pm  to 6 pm \nSundays from 1pm  to 6 pm \nRESTAURANT RESERVATIONS\n\n\n  \n\n\n\n  \n 
URL:https://schneblywinery.com/bookings/event/live-music-saturday-2025-07-13-2027-11-07/
ATTACH;FMTTYPE=image/jpeg:https://schneblywinery.com/bookings/wp-content/uploads/2023/07/livemusic_gral.jpg
END:VEVENT
BEGIN:VEVENT
DTSTART;TZID=America/Chicago:20271113T110000
DTEND;TZID=America/Chicago:20271113T150000
DTSTAMP:20260423T171624
CREATED:20230710T185653Z
LAST-MODIFIED:20251125T153151Z
UID:848867-1826103600-1826118000@schneblywinery.com
SUMMARY:Brunch Time at Schnebly Winery!
DESCRIPTION:Join us on weekends for our special BRUNCH outside! \nEnjoy delicious farm-to-table food next to our waterfalls! Add $25 during table service for UNLIMITED MIMOSAS! \nRESTAURANT RESERVATIONS\n\n\n\n  \n 
URL:https://schneblywinery.com/bookings/event/saturday-brunch-at-schnebly-winery-2025-07-19-2027-11-13/
CATEGORIES:Events
ATTACH;FMTTYPE=image/jpeg:https://schneblywinery.com/bookings/wp-content/uploads/2023/07/restaurant_gral-2.jpg
END:VEVENT
BEGIN:VEVENT
DTSTART;TZID=America/Chicago:20271113T130000
DTEND;TZID=America/Chicago:20271113T180000
DTSTAMP:20260423T171624
CREATED:20230710T151831Z
LAST-MODIFIED:20251125T163119Z
UID:848868-1826110800-1826128800@schneblywinery.com
SUMMARY:Live Music at Schnebly Winery
DESCRIPTION:Enjoy live music \nSaturdays from 1pm  to 6 pm \nSundays from 1pm  to 6 pm \nRESTAURANT RESERVATIONS\n\n\n  \n\n\n\n  \n 
URL:https://schneblywinery.com/bookings/event/live-music-saturday-2025-07-13-2027-11-13/
ATTACH;FMTTYPE=image/jpeg:https://schneblywinery.com/bookings/wp-content/uploads/2023/07/livemusic_gral.jpg
END:VEVENT
BEGIN:VEVENT
DTSTART;TZID=America/Chicago:20271114T110000
DTEND;TZID=America/Chicago:20271114T150000
DTSTAMP:20260423T171624
CREATED:20230710T185653Z
LAST-MODIFIED:20230710T185653Z
UID:849131-1826190000-1826204400@schneblywinery.com
SUMMARY:Brunch Time at Schnebly Winery!
DESCRIPTION:Join us on weekends for our special BRUNCH outside! \nEnjoy delicious farm-to-table food next to our waterfalls! Add $25 during table service for UNLIMITED MIMOSAS! \nRESTAURANT RESERVATIONS\n\n\n\n  \n 
URL:https://schneblywinery.com/bookings/event/saturday-brunch-at-schnebly-winery-2025-07-19-2027-11-14/
CATEGORIES:Events
ATTACH;FMTTYPE=image/jpeg:https://schneblywinery.com/bookings/wp-content/uploads/2023/07/restaurant_gral-2.jpg
END:VEVENT
BEGIN:VEVENT
DTSTART;TZID=America/Chicago:20271114T130000
DTEND;TZID=America/Chicago:20271114T180000
DTSTAMP:20260423T171624
CREATED:20230710T151831Z
LAST-MODIFIED:20230710T151831Z
UID:849133-1826197200-1826215200@schneblywinery.com
SUMMARY:Live Music at Schnebly Winery
DESCRIPTION:Enjoy live music \nSaturdays from 1pm  to 6 pm \nSundays from 1pm  to 6 pm \nRESTAURANT RESERVATIONS\n\n\n  \n\n\n\n  \n 
URL:https://schneblywinery.com/bookings/event/live-music-saturday-2025-07-13-2027-11-14/
ATTACH;FMTTYPE=image/jpeg:https://schneblywinery.com/bookings/wp-content/uploads/2023/07/livemusic_gral.jpg
END:VEVENT
BEGIN:VEVENT
DTSTART;TZID=America/Chicago:20271120T110000
DTEND;TZID=America/Chicago:20271120T150000
DTSTAMP:20260423T171624
CREATED:20230710T185653Z
LAST-MODIFIED:20251125T153152Z
UID:849069-1826708400-1826722800@schneblywinery.com
SUMMARY:Brunch Time at Schnebly Winery!
DESCRIPTION:Join us on weekends for our special BRUNCH outside! \nEnjoy delicious farm-to-table food next to our waterfalls! Add $25 during table service for UNLIMITED MIMOSAS! \nRESTAURANT RESERVATIONS\n\n\n\n  \n 
URL:https://schneblywinery.com/bookings/event/saturday-brunch-at-schnebly-winery-2025-07-19-2027-11-20/
CATEGORIES:Events
ATTACH;FMTTYPE=image/jpeg:https://schneblywinery.com/bookings/wp-content/uploads/2023/07/restaurant_gral-2.jpg
END:VEVENT
BEGIN:VEVENT
DTSTART;TZID=America/Chicago:20271120T130000
DTEND;TZID=America/Chicago:20271120T180000
DTSTAMP:20260423T171624
CREATED:20230710T151831Z
LAST-MODIFIED:20251125T163120Z
UID:849070-1826715600-1826733600@schneblywinery.com
SUMMARY:Live Music at Schnebly Winery
DESCRIPTION:Enjoy live music \nSaturdays from 1pm  to 6 pm \nSundays from 1pm  to 6 pm \nRESTAURANT RESERVATIONS\n\n\n  \n\n\n\n  \n 
URL:https://schneblywinery.com/bookings/event/live-music-saturday-2025-07-13-2027-11-20/
ATTACH;FMTTYPE=image/jpeg:https://schneblywinery.com/bookings/wp-content/uploads/2023/07/livemusic_gral.jpg
END:VEVENT
BEGIN:VEVENT
DTSTART;TZID=America/Chicago:20271121T110000
DTEND;TZID=America/Chicago:20271121T150000
DTSTAMP:20260423T171624
CREATED:20230710T185653Z
LAST-MODIFIED:20230710T185653Z
UID:849132-1826794800-1826809200@schneblywinery.com
SUMMARY:Brunch Time at Schnebly Winery!
DESCRIPTION:Join us on weekends for our special BRUNCH outside! \nEnjoy delicious farm-to-table food next to our waterfalls! Add $25 during table service for UNLIMITED MIMOSAS! \nRESTAURANT RESERVATIONS\n\n\n\n  \n 
URL:https://schneblywinery.com/bookings/event/saturday-brunch-at-schnebly-winery-2025-07-19-2027-11-21/
CATEGORIES:Events
ATTACH;FMTTYPE=image/jpeg:https://schneblywinery.com/bookings/wp-content/uploads/2023/07/restaurant_gral-2.jpg
END:VEVENT
BEGIN:VEVENT
DTSTART;TZID=America/Chicago:20271121T130000
DTEND;TZID=America/Chicago:20271121T180000
DTSTAMP:20260423T171624
CREATED:20230710T151831Z
LAST-MODIFIED:20230710T151831Z
UID:849134-1826802000-1826820000@schneblywinery.com
SUMMARY:Live Music at Schnebly Winery
DESCRIPTION:Enjoy live music \nSaturdays from 1pm  to 6 pm \nSundays from 1pm  to 6 pm \nRESTAURANT RESERVATIONS\n\n\n  \n\n\n\n  \n 
URL:https://schneblywinery.com/bookings/event/live-music-saturday-2025-07-13-2027-11-21/
ATTACH;FMTTYPE=image/jpeg:https://schneblywinery.com/bookings/wp-content/uploads/2023/07/livemusic_gral.jpg
END:VEVENT
END:VCALENDAR